BEGIN:VCALENDAR
VERSION:2.0
PRODID:-//ISTA Postdoc Office - ECPv6.15.20//NONSGML v1.0//EN
CALSCALE:GREGORIAN
METHOD:PUBLISH
X-ORIGINAL-URL:https://postdoc.pages.ist.ac.at
X-WR-CALDESC:Events for ISTA Postdoc Office
REFRESH-INTERVAL;VALUE=DURATION:PT1H
X-Robots-Tag:noindex
X-PUBLISHED-TTL:PT1H
BEGIN:VTIMEZONE
TZID:Europe/Vienna
BEGIN:DAYLIGHT
TZOFFSETFROM:+0100
TZOFFSETTO:+0200
TZNAME:CEST
DTSTART:20240331T010000
END:DAYLIGHT
BEGIN:STANDARD
TZOFFSETFROM:+0200
TZOFFSETTO:+0100
TZNAME:CET
DTSTART:20241027T010000
END:STANDARD
BEGIN:DAYLIGHT
TZOFFSETFROM:+0100
TZOFFSETTO:+0200
TZNAME:CEST
DTSTART:20250330T010000
END:DAYLIGHT
BEGIN:STANDARD
TZOFFSETFROM:+0200
TZOFFSETTO:+0100
TZNAME:CET
DTSTART:20251026T010000
END:STANDARD
BEGIN:DAYLIGHT
TZOFFSETFROM:+0100
TZOFFSETTO:+0200
TZNAME:CEST
DTSTART:20260329T010000
END:DAYLIGHT
BEGIN:STANDARD
TZOFFSETFROM:+0200
TZOFFSETTO:+0100
TZNAME:CET
DTSTART:20261025T010000
END:STANDARD
END:VTIMEZONE
BEGIN:VEVENT
DTSTART;TZID=Europe/Vienna:20250121T140000
DTEND;TZID=Europe/Vienna:20250121T153000
DTSTAMP:20260422T025833
CREATED:20240924T090641Z
LAST-MODIFIED:20240924T090641Z
UID:1987-1737468000-1737473400@postdoc.pages.ist.ac.at
SUMMARY:Research Integrity and Ethics Workshop
DESCRIPTION:Please register here:\nhttps://research-ethics-and-integrity.pages.ista.ac.at/dates-and-registration-for-workshops/ \nPlease note – you are required to attend one of these workshops during your first year at ISTA!
URL:https://postdoc.pages.ist.ac.at/event/research-integrity-and-ethics-workshop-3/
LOCATION:Mondi 1 / Central Bldg / O1\, Am Campus 1\, Klosterneuburg\, 3400\, Austria
ORGANIZER;CN="Dr. Krishna Mutanwad":MAILTO:ethicsofficer@ist.ac.at
END:VEVENT
END:VCALENDAR