BEGIN:VCALENDAR
VERSION:2.0
PRODID:-//ISTA Postdoc Office - ECPv6.15.20//NONSGML v1.0//EN
CALSCALE:GREGORIAN
METHOD:PUBLISH
X-WR-CALNAME:ISTA Postdoc Office
X-ORIGINAL-URL:https://postdoc.pages.ist.ac.at
X-WR-CALDESC:Events for ISTA Postdoc Office
REFRESH-INTERVAL;VALUE=DURATION:PT1H
X-Robots-Tag:noindex
X-PUBLISHED-TTL:PT1H
BEGIN:VTIMEZONE
TZID:Europe/Vienna
BEGIN:DAYLIGHT
TZOFFSETFROM:+0100
TZOFFSETTO:+0200
TZNAME:CEST
DTSTART:20250330T010000
END:DAYLIGHT
BEGIN:STANDARD
TZOFFSETFROM:+0200
TZOFFSETTO:+0100
TZNAME:CET
DTSTART:20251026T010000
END:STANDARD
BEGIN:DAYLIGHT
TZOFFSETFROM:+0100
TZOFFSETTO:+0200
TZNAME:CEST
DTSTART:20260329T010000
END:DAYLIGHT
BEGIN:STANDARD
TZOFFSETFROM:+0200
TZOFFSETTO:+0100
TZNAME:CET
DTSTART:20261025T010000
END:STANDARD
BEGIN:DAYLIGHT
TZOFFSETFROM:+0100
TZOFFSETTO:+0200
TZNAME:CEST
DTSTART:20270328T010000
END:DAYLIGHT
BEGIN:STANDARD
TZOFFSETFROM:+0200
TZOFFSETTO:+0100
TZNAME:CET
DTSTART:20271031T010000
END:STANDARD
END:VTIMEZONE
BEGIN:VEVENT
DTSTART;TZID=Europe/Vienna:20260410T093000
DTEND;TZID=Europe/Vienna:20260410T123000
DTSTAMP:20260420T000332
CREATED:20260324T075843Z
LAST-MODIFIED:20260324T075843Z
UID:2834-1775813400-1775824200@postdoc.pages.ist.ac.at
SUMMARY:Harnessing AI: Balancing Innovation with Responsibility
DESCRIPTION:Responsible use of generative AI and AI tools is crucial for researchers to ensure accuracy\, transparency\, reproducibility\, while maintaining trustworthiness of their scientific findings. This workshop – led by Krishna Mutanwad (Research Ethics Officer\, ISTA) – will cover a comprehensive range of topics essential for postdocs keen on using AI responsibly in their research activities. The participants will get insights regarding the expectations surrounding the use of AI tools in areas of scientific writing\, grant applications\, literature review\, hypothesis generation etc.\, with a strong emphasis on upholding research integrity and ethical standards at every stage of the process. The interactive format of the workshop will also include discussions on various topics such as ethical dilemmas around using AI tools\, environmental impact of AI tools\, leveraging AI tools for career advancement – focusing on crafting impactful CVs and excelling in interviews. \nhttps://athena.ista.ac.at/node/55924
URL:https://postdoc.pages.ist.ac.at/event/harnessing-ai-balancing-innovation-with-responsibility/
LOCATION:Mondi 2\, Central Building\, Am Campus 1\, Klosterneuburg\, 3400\, Austria
END:VEVENT
END:VCALENDAR