BEGIN:VCALENDAR
VERSION:2.0
PRODID:-//ISTA Postdoc Office - ECPv6.15.20//NONSGML v1.0//EN
CALSCALE:GREGORIAN
METHOD:PUBLISH
X-ORIGINAL-URL:https://postdoc.pages.ist.ac.at
X-WR-CALDESC:Events for ISTA Postdoc Office
REFRESH-INTERVAL;VALUE=DURATION:PT1H
X-Robots-Tag:noindex
X-PUBLISHED-TTL:PT1H
BEGIN:VTIMEZONE
TZID:Europe/Vienna
BEGIN:DAYLIGHT
TZOFFSETFROM:+0100
TZOFFSETTO:+0200
TZNAME:CEST
DTSTART:20250330T010000
END:DAYLIGHT
BEGIN:STANDARD
TZOFFSETFROM:+0200
TZOFFSETTO:+0100
TZNAME:CET
DTSTART:20251026T010000
END:STANDARD
BEGIN:DAYLIGHT
TZOFFSETFROM:+0100
TZOFFSETTO:+0200
TZNAME:CEST
DTSTART:20260329T010000
END:DAYLIGHT
BEGIN:STANDARD
TZOFFSETFROM:+0200
TZOFFSETTO:+0100
TZNAME:CET
DTSTART:20261025T010000
END:STANDARD
BEGIN:DAYLIGHT
TZOFFSETFROM:+0100
TZOFFSETTO:+0200
TZNAME:CEST
DTSTART:20270328T010000
END:DAYLIGHT
BEGIN:STANDARD
TZOFFSETFROM:+0200
TZOFFSETTO:+0100
TZNAME:CET
DTSTART:20271031T010000
END:STANDARD
END:VTIMEZONE
BEGIN:VEVENT
DTSTART;TZID=Europe/Vienna:20260416T090000
DTEND;TZID=Europe/Vienna:20260416T170000
DTSTAMP:20260420T115849
CREATED:20251203T104314Z
LAST-MODIFIED:20260324T080347Z
UID:2617-1776330000-1776358800@postdoc.pages.ist.ac.at
SUMMARY:Networking and Self-Marketing
DESCRIPTION:This workshop targets PhD students and post-doctoral fellows who wish to improve their communication skills to advance their research through self-marketing prospects and make the most of their intercultural and interdisciplinary networking opportunities. They will learn how to make an impact in scientific contexts such as conferences and other events\, how to deal with an international crowd and how to connect to an interdisciplinary audience. The workshop focuses specifically on self -expression in terms of vocal quality\, body language and verbal expression in academic and professional contexts and offers practical tools to prepare content for potential networking and self -marketing conversations. \nhttps://athena.ista.ac.at/node/50983
URL:https://postdoc.pages.ist.ac.at/event/networking-self-presentation/
LOCATION:Sunstone Bldg / 1st floor / Big Meeting room\, Am Campus 1\, Klosterneuburg\, 3400\, Austria
END:VEVENT
BEGIN:VEVENT
DTSTART;TZID=Europe/Vienna:20260416T100000
DTEND;TZID=Europe/Vienna:20260416T113000
DTSTAMP:20260420T115849
CREATED:20251203T101500Z
LAST-MODIFIED:20251203T101500Z
UID:2613-1776333600-1776339000@postdoc.pages.ist.ac.at
SUMMARY:Research Integrity and Ethics Workshops for Postdocs
DESCRIPTION:Please register here: https://research-ethics-and-integrity.pages.ista.ac.at/dates-and-registration-for-workshops/ \nEach workshop is limited to a maximum of 20 participants.  \nPlease note – you are required to attend one of these workshops during your first year at ISTA!
URL:https://postdoc.pages.ist.ac.at/event/research-integrity-and-ethics-workshops-for-postdocs-5/
LOCATION:Mondi 1 / Central Bldg / O1\, Am Campus 1\, Klosterneuburg\, 3400\, Austria
END:VEVENT
END:VCALENDAR