BEGIN:VCALENDAR
VERSION:2.0
PRODID:-//ISTA Postdoc Office - ECPv6.15.20//NONSGML v1.0//EN
CALSCALE:GREGORIAN
METHOD:PUBLISH
X-WR-CALNAME:ISTA Postdoc Office
X-ORIGINAL-URL:https://postdoc.pages.ist.ac.at
X-WR-CALDESC:Events for ISTA Postdoc Office
REFRESH-INTERVAL;VALUE=DURATION:PT1H
X-Robots-Tag:noindex
X-PUBLISHED-TTL:PT1H
BEGIN:VTIMEZONE
TZID:Europe/Vienna
BEGIN:DAYLIGHT
TZOFFSETFROM:+0100
TZOFFSETTO:+0200
TZNAME:CEST
DTSTART:20250330T010000
END:DAYLIGHT
BEGIN:STANDARD
TZOFFSETFROM:+0200
TZOFFSETTO:+0100
TZNAME:CET
DTSTART:20251026T010000
END:STANDARD
BEGIN:DAYLIGHT
TZOFFSETFROM:+0100
TZOFFSETTO:+0200
TZNAME:CEST
DTSTART:20260329T010000
END:DAYLIGHT
BEGIN:STANDARD
TZOFFSETFROM:+0200
TZOFFSETTO:+0100
TZNAME:CET
DTSTART:20261025T010000
END:STANDARD
BEGIN:DAYLIGHT
TZOFFSETFROM:+0100
TZOFFSETTO:+0200
TZNAME:CEST
DTSTART:20270328T010000
END:DAYLIGHT
BEGIN:STANDARD
TZOFFSETFROM:+0200
TZOFFSETTO:+0100
TZNAME:CET
DTSTART:20271031T010000
END:STANDARD
END:VTIMEZONE
BEGIN:VEVENT
DTSTART;VALUE=DATE:20261008
DTEND;VALUE=DATE:20261009
DTSTAMP:20260420T091204
CREATED:20251203T110402Z
LAST-MODIFIED:20251203T110402Z
UID:2635-1791417600-1791503999@postdoc.pages.ist.ac.at
SUMMARY:Time and Self-management
DESCRIPTION:
URL:https://postdoc.pages.ist.ac.at/event/time-and-self-management-2/
END:VEVENT
BEGIN:VEVENT
DTSTART;VALUE=DATE:20261023
DTEND;VALUE=DATE:20261024
DTSTAMP:20260420T091204
CREATED:20260324T080831Z
LAST-MODIFIED:20260324T080831Z
UID:2843-1792713600-1792799999@postdoc.pages.ist.ac.at
SUMMARY:Harnessing AI: Balancing Innovation with Responsibility
DESCRIPTION:
URL:https://postdoc.pages.ist.ac.at/event/harnessing-ai-balancing-innovation-with-responsibility-2/
END:VEVENT
BEGIN:VEVENT
DTSTART;VALUE=DATE:20261118
DTEND;VALUE=DATE:20261121
DTSTAMP:20260420T091204
CREATED:20260324T080907Z
LAST-MODIFIED:20260324T080907Z
UID:2845-1794960000-1795219199@postdoc.pages.ist.ac.at
SUMMARY:Interview Training for Industry
DESCRIPTION:
URL:https://postdoc.pages.ist.ac.at/event/interview-training-for-industry/
END:VEVENT
END:VCALENDAR