BEGIN:VCALENDAR
VERSION:2.0
PRODID:-//ISTA Postdoc Office - ECPv6.15.20//NONSGML v1.0//EN
CALSCALE:GREGORIAN
METHOD:PUBLISH
X-WR-CALNAME:ISTA Postdoc Office
X-ORIGINAL-URL:https://postdoc.pages.ist.ac.at
X-WR-CALDESC:Events for ISTA Postdoc Office
REFRESH-INTERVAL;VALUE=DURATION:PT1H
X-Robots-Tag:noindex
X-PUBLISHED-TTL:PT1H
BEGIN:VTIMEZONE
TZID:Europe/Vienna
BEGIN:DAYLIGHT
TZOFFSETFROM:+0100
TZOFFSETTO:+0200
TZNAME:CEST
DTSTART:20230326T010000
END:DAYLIGHT
BEGIN:STANDARD
TZOFFSETFROM:+0200
TZOFFSETTO:+0100
TZNAME:CET
DTSTART:20231029T010000
END:STANDARD
BEGIN:DAYLIGHT
TZOFFSETFROM:+0100
TZOFFSETTO:+0200
TZNAME:CEST
DTSTART:20240331T010000
END:DAYLIGHT
BEGIN:STANDARD
TZOFFSETFROM:+0200
TZOFFSETTO:+0100
TZNAME:CET
DTSTART:20241027T010000
END:STANDARD
BEGIN:DAYLIGHT
TZOFFSETFROM:+0100
TZOFFSETTO:+0200
TZNAME:CEST
DTSTART:20250330T010000
END:DAYLIGHT
BEGIN:STANDARD
TZOFFSETFROM:+0200
TZOFFSETTO:+0100
TZNAME:CET
DTSTART:20251026T010000
END:STANDARD
END:VTIMEZONE
BEGIN:VEVENT
DTSTART;TZID=Europe/Vienna:20241212T090000
DTEND;TZID=Europe/Vienna:20241212T170000
DTSTAMP:20260421T074602
CREATED:20241118T074838Z
LAST-MODIFIED:20241118T075216Z
UID:2092-1733994000-1734022800@postdoc.pages.ist.ac.at
SUMMARY:Scientific Writing and Publishing: A Three-Day Workshop on Writing Impactful Manuscripts
DESCRIPTION:‘Scientific Writing and Publishing: A Three-Day Workshop on Writing Impactful Manuscripts’ will take place on campus on Dec 12 + Dec 13 + Dec 20\, 9.00-17.00 (see more information below).  \nRegistration is limited\, and will be allocated on a first-come\, first-serve basis. Please register in Athena. If you register but end up not being able to attend\, please make sure to de-register to allow others to participate.  \n12.12.2024 09:00 – 13:00 (Thu)	Sunstone Bldg / O1 / Big Office Meeting room (101) (I23.O1.101)\n12.12.2024 13:00 – 17:00 (Thu)	Sunstone Bldg / Ground floor / Big Seminar Room A / 27 seats (I23.EG.102) \nScientific Writing and Publishing: A Three-Day Workshop on Writing Impactful Manuscripts\nBy the end of this three-day course\, you will know how to: – tell a story with your science – structure your manuscript effectively – write a punchy title and abstract – write clear and simple sentences – choose the best journal for your paper – pen a persuasive cover letter that gets your manuscript sent for review – respond to editors and reviewers with clarity and confidence – draft an eye-catching social media post. Participants will be asked to complete two tasks 10 days before the course begins (Nov 29): 1) Select two published papers from the literature 2) Submit a 100-150 word abstract (more details will be provided).  \nAbout the trainer:\nDr. Alison Green received her PhD in chemistry from the University of Melbourne. She then moved into scientific publishing. Advanced Materials (Wiley) was where she honed her skills. Alison was later appointed to Editor-in-Chief of the Australian Journal of Chemistry. Soon after\, she started the journal Environmental Chemistry. Alison is a native English speaker and fluent in German.
URL:https://postdoc.pages.ist.ac.at/event/scientific-writing-and-publishing-a-three-day-workshop-on-writing-impactful-manuscripts/
LOCATION:Sunstone Building I23.01.101
END:VEVENT
BEGIN:VEVENT
DTSTART;TZID=Europe/Vienna:20241209T140000
DTEND;TZID=Europe/Vienna:20241209T153000
DTSTAMP:20260421T074602
CREATED:20240924T090517Z
LAST-MODIFIED:20241209T080920Z
UID:1985-1733752800-1733758200@postdoc.pages.ist.ac.at
SUMMARY:Research Integrity and Ethics Workshop
DESCRIPTION:Please register here:\nhttps://research-ethics-and-integrity.pages.ista.ac.at/dates-and-registration-for-workshops/ \nPlease note – you are required to attend one of these workshops during your first year at ISTA!
URL:https://postdoc.pages.ist.ac.at/event/research-integrity-and-ethics-workshop-2/
LOCATION:Mondi 2\, Central Building\, Am Campus 1\, Klosterneuburg\, 3400\, Austria
ORGANIZER;CN="Dr. Krishna Mutanwad":MAILTO:ethicsofficer@ist.ac.at
END:VEVENT
BEGIN:VEVENT
DTSTART;TZID=Europe/Vienna:20241209T090000
DTEND;TZID=Europe/Vienna:20241209T160000
DTSTAMP:20260421T074602
CREATED:20241007T092947Z
LAST-MODIFIED:20241007T092947Z
UID:2010-1733734800-1733760000@postdoc.pages.ist.ac.at
SUMMARY:Time and Self Management
DESCRIPTION:This one-day workshop will teach students the basics of time management. How do I structure a day? A month? A year? A PhD project? How do I prioritize? What can I do against procrastination? How can my planning become sufficiently realistic? About the trainer: Dr. Andrea Tschirf has been a trainer and coach for scientists for almost two decades. She teaches time and project management as well as leadership. She has a background in economics and social sciences. https://www.tschirf.at/english/
URL:https://postdoc.pages.ist.ac.at/event/time-and-self-management/
LOCATION:Moonstone Bldg / O2 / Lab Meeting Room (I24.O2.006)
END:VEVENT
BEGIN:VEVENT
DTSTART;TZID=Europe/Vienna:20241206T090000
DTEND;TZID=Europe/Vienna:20241206T170000
DTSTAMP:20260421T074602
CREATED:20240916T114847Z
LAST-MODIFIED:20240930T100559Z
UID:1928-1733475600-1733504400@postdoc.pages.ist.ac.at
SUMMARY:Interviewing in industry - mock interviews
DESCRIPTION:Recruiting in and outside of academia is quite different. Interviews are often perceived as stressful. \nThis workshop teaches you how to prepare for an interview in industry. The focus is on the general parts of the interview: your motivation\, fit to company\, your career path so far\, etc. These are the parts where HR recruiters may be involved and that is often a cause for insecurities. Please note\, the workshop will not cover technical questions you may in counter if you interview for positions in software development or data science. \nIn addition to online theoretical input\, you get to do a mock-interview. The aim is to give you an experience that is close to reality. However\, after the interview you will get detailed constructive feedback to increase your confidence and help you improve your interview skills. This is something that you do not get in real life! \nChristine Mössler is just the person to do this. She has lot’s of HR experience\, but she is also an expert on giving you valuable\, honest feedback in a supportive manner.
URL:https://postdoc.pages.ist.ac.at/event/interviewing-in-industry-mock-interviews-2/
END:VEVENT
BEGIN:VEVENT
DTSTART;TZID=Europe/Vienna:20241205T090000
DTEND;TZID=Europe/Vienna:20241205T170000
DTSTAMP:20260421T074602
CREATED:20240916T114623Z
LAST-MODIFIED:20240930T100536Z
UID:1925-1733389200-1733418000@postdoc.pages.ist.ac.at
SUMMARY:Interviewing in industry - mock interviews
DESCRIPTION:Recruiting in and outside of academia is quite different. Interviews are often perceived as stressful. \nThis workshop teaches you how to prepare for an interview in industry. The focus is on the general parts of the interview: your motivation\, fit to company\, your career path so far\, etc. These are the parts where HR recruiters may be involved and that is often a cause for insecurities. Please note\, the workshop will not cover technical questions you may in counter if you interview for positions in software development or data science. \nIn addition to online theoretical input\, you get to do a mock-interview. The aim is to give you an experience that is close to reality. However\, after the interview you will get detailed constructive feedback to increase your confidence and help you improve your interview skills. This is something that you do not get in real life! \nChristine Mössler is just the person to do this. She has lot’s of HR experience\, but she is also an expert on giving you valuable\, honest feedback in a supportive manner. \nTrainer: Christiane Mössler\, https://christinemoessler.at/uebermich/
URL:https://postdoc.pages.ist.ac.at/event/interviewing-in-industry-mock-interviews/
END:VEVENT
BEGIN:VEVENT
DTSTART;VALUE=DATE:20241125
DTEND;VALUE=DATE:20241128
DTSTAMP:20260421T074602
CREATED:20240916T120508Z
LAST-MODIFIED:20240916T120532Z
UID:1946-1732492800-1732751999@postdoc.pages.ist.ac.at
SUMMARY:Women Peer Mentoring Program 2024 - quarterly workshop
DESCRIPTION:The program includes one workshop per quarter to boost participates’ soft skills to the next level and prepares them in an optimal way for the next step in their careers. Topics for workshops in 2025 will be discussed with participants and will be scheduled throughout the program. \nThe first workshop will be on Nov 25-27\, 2024 on the topic of leadership. The aim of this 2.5-day workshop is to provide women early career researchers with effective tools for actively stepping up into a 360° leadership position – i.e.\, leading in all directions (upward\, downward\, and lateral as well as oneself). One core focus of this workshop lies on how (formal or informal) leaders can create a fruitful team environment for innovation to become possible. Apart from preparing for a senior leader’s role inside or outside science\, this workshop shows how early-career researchers can already step up and lead in a visionary way. The workshop will be facilitated by Dr. Insa Flachsbarth.
URL:https://postdoc.pages.ist.ac.at/event/women-peer-mentoring-program-2024-quarterly-workshop/
END:VEVENT
BEGIN:VEVENT
DTSTART;TZID=Europe/Vienna:20241121T140000
DTEND;TZID=Europe/Vienna:20241121T183000
DTSTAMP:20260421T074602
CREATED:20240916T115715Z
LAST-MODIFIED:20241108T150608Z
UID:1938-1732197600-1732213800@postdoc.pages.ist.ac.at
SUMMARY:IST-BRIDGE Fellowship program celebration for all postdocs
DESCRIPTION:
URL:https://postdoc.pages.ist.ac.at/event/ist-bridge-fellowship-program-celebration/
LOCATION:Moonstone seminar room
END:VEVENT
BEGIN:VEVENT
DTSTART;TZID=Europe/Vienna:20241111T130000
DTEND;TZID=Europe/Vienna:20241111T160000
DTSTAMP:20260421T074602
CREATED:20240930T100936Z
LAST-MODIFIED:20240930T100936Z
UID:2002-1731330000-1731340800@postdoc.pages.ist.ac.at
SUMMARY:Interviewing in industry - theory input
DESCRIPTION:Recruiting in and outside of academia is quite different. Interviews are often perceived as stressful. \nThis workshop teaches you how to prepare for an interview in industry. The focus is on the general parts of the interview: your motivation\, fit to company\, your career path so far\, etc. These are the parts where HR recruiters may be involved and that is often a cause for insecurities. Please note\, the workshop will not cover technical questions you may in counter if you interview for positions in software development or data science. \nIn addition to online theoretical input\, you get to do a mock-interview. The aim is to give you an experience that is close to reality. However\, after the interview you will get detailed constructive feedback to increase your confidence and help you improve your interview skills. This is something that you do not get in real life! \nChristine Mössler is just the person to do this. She has lot’s of HR experience\, but she is also an expert on giving you valuable\, honest feedback in a supportive manner. \nTrainer: Christiane Mössler\, https://christinemoessler.at/uebermich/ \nFor more info please check here: https://career-services.pages.ist.ac.at/interviewing-in-industry/
URL:https://postdoc.pages.ist.ac.at/event/interviewing-in-industry-theory-input/
END:VEVENT
BEGIN:VEVENT
DTSTART;TZID=Europe/Vienna:20241024T130000
DTEND;TZID=Europe/Vienna:20241024T160000
DTSTAMP:20260421T074602
CREATED:20240916T120254Z
LAST-MODIFIED:20240916T120254Z
UID:1944-1729774800-1729785600@postdoc.pages.ist.ac.at
SUMMARY:Women Peer Mentoring Program 2024: In-person peer group exchange
DESCRIPTION:In-person peer group exchange\nOnce per quarter\, first session on October 24 (1pm – 4 pm)\n(Up to) 3 hours per session (breaks included)\nTopics defined by participants\nFacilitated by Kathrin Humphrey\, counselor and expert in science management and science policy\nIf participants wish\, peer exchange every 2 months (instead of every 3 months) is possible;\nGroup size: min. 8\, max. 12
URL:https://postdoc.pages.ist.ac.at/event/women-peer-mentoring-program-2024-in-person-peer-group-exchange/
END:VEVENT
BEGIN:VEVENT
DTSTART;TZID=Europe/Vienna:20241023T100000
DTEND;TZID=Europe/Vienna:20241023T113000
DTSTAMP:20260421T074602
CREATED:20240924T090336Z
LAST-MODIFIED:20240924T090336Z
UID:1978-1729677600-1729683000@postdoc.pages.ist.ac.at
SUMMARY:Research Integrity and Ethics Workshop
DESCRIPTION:Please register here:\nhttps://research-ethics-and-integrity.pages.ista.ac.at/dates-and-registration-for-workshops/  \nPlease note – you are required to attend one of these workshops during your first year at ISTA!
URL:https://postdoc.pages.ist.ac.at/event/research-integrity-and-ethics-workshop/
LOCATION:Mondi 3 / Central Bldg / O1
ORGANIZER;CN="Dr. Krishna Mutanwad":MAILTO:ethicsofficer@ist.ac.at
END:VEVENT
BEGIN:VEVENT
DTSTART;TZID=Europe/Vienna:20241021T130000
DTEND;TZID=Europe/Vienna:20241021T160000
DTSTAMP:20260421T074602
CREATED:20240925T135107Z
LAST-MODIFIED:20240925T135107Z
UID:2000-1729515600-1729526400@postdoc.pages.ist.ac.at
SUMMARY:Looking to the Future - Session 4: Interview practice\, practical questions about taking on a job
DESCRIPTION:To register\, make sure that you are logged in and use the following link:\nhttps://athena.ista.ac.at/node/42527
URL:https://postdoc.pages.ist.ac.at/event/looking-to-the-future-session-4-interview-practice-practical-questions-about-taking-on-a-job/
LOCATION:Moonstone Blog\, 3rd floor\, Lab Meeting Room I24.O3.006.
END:VEVENT
BEGIN:VEVENT
DTSTART;TZID=Europe/Vienna:20241018T130000
DTEND;TZID=Europe/Vienna:20241018T173000
DTSTAMP:20260421T074602
CREATED:20240916T121050Z
LAST-MODIFIED:20240916T121050Z
UID:1950-1729256400-1729272600@postdoc.pages.ist.ac.at
SUMMARY:Scientific Visualization with Adobe Illustrator — from Basics to Publication-Ready Figures
DESCRIPTION:Scientific Visualization with Adobe Illustrator — From Basics to Publication-Ready Figures \nThis introductory Adobe Illustrator workshop for scientists is crafted with two main goals. First\, it seeks to introduce the basic principles and techniques of Adobe Illustrator\, making them accessible and relevant to scientists. Second\, it aims to equip participants with the skills necessary to efficiently produce data figures that meet publication standards. Over the course of two afternoon sessions\, participants will: – gain familiarity with Adobe Illustrator\, learning to navigate its interface and organize documents effectively through artboards and layers – master essential techniques such as manipulating shapes\, using transformation tools\, aligning and organizing objects – learn advanced techniques including image and text handling\, clipping masks\, paths\, and the pen tool – participate in hands-on practice to craft a figure ready for publication\, including addressing common challenges when integrating diverse data into a cohesive visual narrative. \nAbout the trainer: \nDr. Belen Pacheco-Fiallos is a biochemist with a passion for visual science communication. She has been using Adobe Illustrator for 10+ years to create figures for research papers and reviews\, learning to efficiently craft multi-panel figures. She aims to share this knowledge with you with you so that you can focus on your next exciting experiment instead of manually changing colors. \nImportantly\, access to an Adobe Illustrator license is required. Please bring your own\, book a PPMS license\, or contact IT Support (it@ist.ac.at) by September 30 for support in acquiring a license (a limited number of paid licenses are available).
URL:https://postdoc.pages.ist.ac.at/event/scientific-visualization-with-adobe-illustrator-from-basics-to-publication-ready-figures-2/
END:VEVENT
BEGIN:VEVENT
DTSTART;TZID=Europe/Vienna:20241015T010000
DTEND;TZID=Europe/Vienna:20241015T140000
DTSTAMP:20260421T074602
CREATED:20241007T125240Z
LAST-MODIFIED:20241008T115146Z
UID:2020-1728954000-1729000800@postdoc.pages.ist.ac.at
SUMMARY:U.S. Consulate Q&A Session
DESCRIPTION:Could your research take you to the United States in the coming year or two? Does the prospect of obtaining the right visa stress you out? Are you seeking guidance? Join US Consular Official Britten Schear for an informal Q&A on October 15th from 1-2pm in Sunstone 101. No RSVP necessary. Open to all.
URL:https://postdoc.pages.ist.ac.at/event/u-s-consulate-qa-session/
LOCATION:Sunstone Building I23.01.101
END:VEVENT
BEGIN:VEVENT
DTSTART;TZID=Europe/Vienna:20241014T130000
DTEND;TZID=Europe/Vienna:20241014T160000
DTSTAMP:20260421T074602
CREATED:20240925T134951Z
LAST-MODIFIED:20240925T134951Z
UID:1998-1728910800-1728921600@postdoc.pages.ist.ac.at
SUMMARY:Looking to the Future - Session 3: Personality – take a big5 test\, practice talking about yourself\, cover letter and CV writing
DESCRIPTION:To register\, make sure that you are logged in and use the following link:\nhttps://athena.ista.ac.at/node/42527
URL:https://postdoc.pages.ist.ac.at/event/looking-to-the-future-session-3-personality-take-a-big5-test-practice-talking-about-yourself-cover-letter-and-cv-writing/
LOCATION:Moonstone Blog\, 3rd floor\, Lab Meeting Room I24.O3.006.
END:VEVENT
BEGIN:VEVENT
DTSTART;TZID=Europe/Vienna:20241011T130000
DTEND;TZID=Europe/Vienna:20241011T173000
DTSTAMP:20260421T074602
CREATED:20240916T120937Z
LAST-MODIFIED:20240916T120937Z
UID:1948-1728651600-1728667800@postdoc.pages.ist.ac.at
SUMMARY:Scientific Visualization with Adobe Illustrator — from Basics to Publication-Ready Figures
DESCRIPTION:Scientific Visualization with Adobe Illustrator — From Basics to Publication-Ready Figures \nThis introductory Adobe Illustrator workshop for scientists is crafted with two main goals. First\, it seeks to introduce the basic principles and techniques of Adobe Illustrator\, making them accessible and relevant to scientists. Second\, it aims to equip participants with the skills necessary to efficiently produce data figures that meet publication standards. Over the course of two afternoon sessions\, participants will: – gain familiarity with Adobe Illustrator\, learning to navigate its interface and organize documents effectively through artboards and layers – master essential techniques such as manipulating shapes\, using transformation tools\, aligning and organizing objects – learn advanced techniques including image and text handling\, clipping masks\, paths\, and the pen tool – participate in hands-on practice to craft a figure ready for publication\, including addressing common challenges when integrating diverse data into a cohesive visual narrative. \nAbout the trainer: \nDr. Belen Pacheco-Fiallos is a biochemist with a passion for visual science communication. She has been using Adobe Illustrator for 10+ years to create figures for research papers and reviews\, learning to efficiently craft multi-panel figures. She aims to share this knowledge with you with you so that you can focus on your next exciting experiment instead of manually changing colors. \nImportantly\, access to an Adobe Illustrator license is required. Please bring your own\, book a PPMS license\, or contact IT Support (it@ist.ac.at) by September 30 for support in acquiring a license (a limited number of paid licenses are available).
URL:https://postdoc.pages.ist.ac.at/event/scientific-visualization-with-adobe-illustrator-from-basics-to-publication-ready-figures/
END:VEVENT
BEGIN:VEVENT
DTSTART;TZID=Europe/Vienna:20241007T130000
DTEND;TZID=Europe/Vienna:20241007T160000
DTSTAMP:20260421T074602
CREATED:20240925T134846Z
LAST-MODIFIED:20240925T134846Z
UID:1996-1728306000-1728316800@postdoc.pages.ist.ac.at
SUMMARY:Looking to the Future - Session 2: Career interests and Holland types; Identification of values; Identification of hard and soft skills
DESCRIPTION:To register\, make sure that you are logged in and use the following link:\nhttps://athena.ista.ac.at/node/42527
URL:https://postdoc.pages.ist.ac.at/event/looking-to-the-future-session-2-career-interests-and-holland-types-identification-of-values-identification-of-hard-and-soft-skills/
LOCATION:Moonstone Blog\, 3rd floor\, Lab Meeting Room I24.O3.006.
END:VEVENT
BEGIN:VEVENT
DTSTART;TZID=Europe/Vienna:20241003T100000
DTEND;TZID=Europe/Vienna:20241003T120000
DTSTAMP:20260421T074602
CREATED:20240916T120043Z
LAST-MODIFIED:20240916T120400Z
UID:1942-1727949600-1727956800@postdoc.pages.ist.ac.at
SUMMARY:Women Peer Mentoring Program 2024 - kick-off brunch
DESCRIPTION:Get to know your fellow participants\, have an exchange with ISTA women faculty members and learn from their experiences\, meet your peer-group facilitator and enjoy brunch!\nOctober 3\, 10 am – 12 pm\nWelcome by Martin Hetzer\, President of ISTA\nExchange with Caroline Muller\, Sandra Siegert and Beatriz Vicoso.
URL:https://postdoc.pages.ist.ac.at/event/women-peer-mentoring-program-2024-kick-off-brunch/
END:VEVENT
BEGIN:VEVENT
DTSTART;TZID=Europe/Vienna:20240930T130000
DTEND;TZID=Europe/Vienna:20240930T160000
DTSTAMP:20260421T074602
CREATED:20240925T134740Z
LAST-MODIFIED:20240925T134740Z
UID:1994-1727701200-1727712000@postdoc.pages.ist.ac.at
SUMMARY:Looking to the Future - session 1: Getting into the topic. What careers are there for STEM scientists?
DESCRIPTION:To register\, make sure that you are logged in and use the following link:\nhttps://athena.ista.ac.at/node/42527
URL:https://postdoc.pages.ist.ac.at/event/looking-to-the-future-session-1-getting-into-the-topic-what-careers-are-there-for-stem-scientists/
LOCATION:Moonstone Blog\, 3rd floor\, Lab Meeting Room I24.O3.006.
END:VEVENT
BEGIN:VEVENT
DTSTART;TZID=Europe/Vienna:20240927T090000
DTEND;TZID=Europe/Vienna:20240927T170000
DTSTAMP:20260421T074602
CREATED:20240916T115233Z
LAST-MODIFIED:20240916T115233Z
UID:1932-1727427600-1727456400@postdoc.pages.ist.ac.at
SUMMARY:Basics in Didactics – Teaching and Learning in Higher Education
DESCRIPTION:Basics in Didactics – Teaching and Learning in Higher Education (1 ECTS) \nBy the end of this 2-day workshop taught by Elisabeth Weber (biography below)\, students will be able to – analyse the conditions for successful learning and teaching – apply basic concepts and methods of university-level teaching – formulate learning outcomes – illustrate characteristics of good university-level teaching – realise and explain the importance of high quality teaching and continuous training in the area of university-level didactics – develop and realise teaching scenarios in an autonomous and sustainable way by means of professional support and exchange with colleagues. \nAbout the Instructor: \nMag. Mag. Dr. Elisabeth Weber has received university degrees for Teaching English\, Pedagogy\, Psychology\, Philosophy and English and American Studies. She also holds a doctorate degree in English Linguistics and is currently working towards her Doctorate in Didactics. She has worked extensively as an instructor at a secondary and a tertiary level for more than 15 years.
URL:https://postdoc.pages.ist.ac.at/event/basics-in-didactics-teaching-and-learning-in-higher-education-2/
END:VEVENT
BEGIN:VEVENT
DTSTART;TZID=Europe/Vienna:20240925T090000
DTEND;TZID=Europe/Vienna:20240925T170000
DTSTAMP:20260421T074602
CREATED:20240916T115119Z
LAST-MODIFIED:20240916T115119Z
UID:1930-1727254800-1727283600@postdoc.pages.ist.ac.at
SUMMARY:Basics in Didactics – Teaching and Learning in Higher Education
DESCRIPTION:Basics in Didactics – Teaching and Learning in Higher Education (1 ECTS) \nBy the end of this 2-day workshop taught by Elisabeth Weber (biography below)\, students will be able to – analyse the conditions for successful learning and teaching – apply basic concepts and methods of university-level teaching – formulate learning outcomes – illustrate characteristics of good university-level teaching – realise and explain the importance of high quality teaching and continuous training in the area of university-level didactics – develop and realise teaching scenarios in an autonomous and sustainable way by means of professional support and exchange with colleagues. \nAbout the Instructor: \nMag. Mag. Dr. Elisabeth Weber has received university degrees for Teaching English\, Pedagogy\, Psychology\, Philosophy and English and American Studies. She also holds a doctorate degree in English Linguistics and is currently working towards her Doctorate in Didactics. She has worked extensively as an instructor at a secondary and a tertiary level for more than 15 years.
URL:https://postdoc.pages.ist.ac.at/event/basics-in-didactics-teaching-and-learning-in-higher-education/
END:VEVENT
END:VCALENDAR