BEGIN:VCALENDAR
VERSION:2.0
PRODID:-//ISTA Postdoc Office - ECPv6.15.20//NONSGML v1.0//EN
CALSCALE:GREGORIAN
METHOD:PUBLISH
X-ORIGINAL-URL:https://postdoc.pages.ist.ac.at
X-WR-CALDESC:Events for ISTA Postdoc Office
REFRESH-INTERVAL;VALUE=DURATION:PT1H
X-Robots-Tag:noindex
X-PUBLISHED-TTL:PT1H
BEGIN:VTIMEZONE
TZID:Europe/Vienna
BEGIN:DAYLIGHT
TZOFFSETFROM:+0100
TZOFFSETTO:+0200
TZNAME:CEST
DTSTART:20250330T010000
END:DAYLIGHT
BEGIN:STANDARD
TZOFFSETFROM:+0200
TZOFFSETTO:+0100
TZNAME:CET
DTSTART:20251026T010000
END:STANDARD
BEGIN:DAYLIGHT
TZOFFSETFROM:+0100
TZOFFSETTO:+0200
TZNAME:CEST
DTSTART:20260329T010000
END:DAYLIGHT
BEGIN:STANDARD
TZOFFSETFROM:+0200
TZOFFSETTO:+0100
TZNAME:CET
DTSTART:20261025T010000
END:STANDARD
BEGIN:DAYLIGHT
TZOFFSETFROM:+0100
TZOFFSETTO:+0200
TZNAME:CEST
DTSTART:20270328T010000
END:DAYLIGHT
BEGIN:STANDARD
TZOFFSETFROM:+0200
TZOFFSETTO:+0100
TZNAME:CET
DTSTART:20271031T010000
END:STANDARD
END:VTIMEZONE
BEGIN:VEVENT
DTSTART;TZID=Europe/Vienna:20260508T090000
DTEND;TZID=Europe/Vienna:20260508T130000
DTSTAMP:20260420T075931
CREATED:20251203T104956Z
LAST-MODIFIED:20260324T080527Z
UID:2623-1778230800-1778245200@postdoc.pages.ist.ac.at
SUMMARY:Creating Your Teaching Portfolio - online
DESCRIPTION:This intensive and interactive webinar will teach participants how to write their teaching portfolio and will be led by Elisabeth Weber (biography below). This online course is designed for future university lecturers—both early-career and experienced—who are preparing for or interested in teaching roles at universities or higher education institutions and wish to create a professional\, internationally applicable teaching portfolio. They will learn what a professional teaching portfolio is\, what it should include\, and how to develop and articulate their teaching philosophy. Additionally\, they will gain insights into effectively presenting their teaching experience\, the key principles behind their instructional approach\, and how to showcase them in their portfolio. Each participant will have the opportunity to schedule an individual 30-minute coaching session after the training. About the Instructor: Mag. Mag. Dr. Elisabeth Weber holds university degrees in Teaching English\, Pedagogy\, Psychology\, Philosophy\, and English and American Studies. She also has a doctorate in English Linguistics and is currently pursuing a doctorate in Didactics. With over 15 years of teaching experience at both secondary and tertiary levels\, she has worked extensively as an instructor. \nhttps://athena.ista.ac.at/node/50992
URL:https://postdoc.pages.ist.ac.at/event/creating-your-teaching-portfolio-online/
END:VEVENT
END:VCALENDAR